BEGIN:VCALENDAR
VERSION:2.0
PRODID:-//Cayman Finance - ECPv6.15.17//NONSGML v1.0//EN
CALSCALE:GREGORIAN
METHOD:PUBLISH
X-WR-CALNAME:Cayman Finance
X-ORIGINAL-URL:https://caymanfinance.ky
X-WR-CALDESC:Events for Cayman Finance
REFRESH-INTERVAL;VALUE=DURATION:PT1H
X-Robots-Tag:noindex
X-PUBLISHED-TTL:PT1H
BEGIN:VTIMEZONE
TZID:America/Cayman
BEGIN:STANDARD
TZOFFSETFROM:-0500
TZOFFSETTO:-0500
TZNAME:EST
DTSTART:20250101T000000
END:STANDARD
END:VTIMEZONE
BEGIN:VEVENT
DTSTART;TZID=America/Cayman:20260419T080000
DTEND;TZID=America/Cayman:20260422T143000
DTSTAMP:20260423T033636
CREATED:20251103T154718Z
LAST-MODIFIED:20260115T143346Z
UID:10000153-1776585600-1776868200@caymanfinance.ky
SUMMARY:GAIM Ops Cayman
DESCRIPTION:Who will you meet? \nGAIM Ops Cayman brings together 700+ leading COOs\, CFOs\, CCOs\, GCs\, Heads of ODD and more to discuss trends\, challenges and expertise. \nCayman Finance members receive a 10% discount on passes using code: FKN3989CF \nTop investment firms confirmed to attend in 2025 include AQR Capital Management\, LLC\, Squarepoint Capital\, Brevan Howard\, Apollo Global Management and Viking Global Investors LP. \nInstitutional investors confirmed to attend in 2025 include Bessemer Trust\, Harvard Management Company\, Yale University\, and Abu Dhabi Investment Council. \nExtended networking opportunities \nGAIM Ops Cayman is designed to forge new connections and grow existing ones. 700+ senior professionals over 4 days results in 10\,000+ invaluable meetings taking place. \nClosed-door discussions\, interactive speaker Q&A’s\, dedicated networking breaks\, and a host of engaging social events – all helping you grow your network. \nConnectMe app launches weeks ahead of time\, allowing you to see who’s attending\, send messages and pre-plan meetings weeks in advance. \nCayman Finance members receive a 10% discount on passes using code: FKN3989CF \nOnly the hottest topics \nDeep-dive into the hottest topics affecting the industry including: \n\nHow to manage evolving compliance requirements\nNew operating models\nRisk management and governance\nAutomation and AI\nExamining the future of ODD
URL:https://caymanfinance.ky/event/gaim-ops-cayman-2/
LOCATION:The Rtiz-Carlton\, Grand Cayman\, West Bay Rd\, Seven Mile Beach\, George Town\, Grand Cayman Islands\, KY1-1209\, Cayman Islands
CATEGORIES:Industry Event
ATTACH;FMTTYPE=image/jpeg:https://caymanfinance.ky/wp-content/uploads/2025/11/Celebrating-20-years-of-excellence.jpg.jpeg
END:VEVENT
BEGIN:VEVENT
DTSTART;TZID=America/Cayman:20260420T080000
DTEND;TZID=America/Cayman:20260421T170000
DTSTAMP:20260423T033636
CREATED:20251204T154059Z
LAST-MODIFIED:20251204T154059Z
UID:10000163-1776672000-1776790800@caymanfinance.ky
SUMMARY:Apex Invest Americas 2026
DESCRIPTION:Cutting edge content – 2 days of insightful keynotes\, engaging panels and thought-provoking fireside chats. \nProductive meetings – Schedule in-person\, back-to-back meetings with vetted\, interested parties via the apexinvest.io platform – optimising your time and efforts. \nNetworking opportunities – Network with investors and industry peers at breakfast\, lunch\, and evening receptions. \nBespoke meeting facilitation – Access apexinvest.io platform\, utilising proprietary algorithms to target your fund with the most relevant allocators. \nBrand exposure – Amplify your brand with bespoke sponsorship and partner opportunities.
URL:https://caymanfinance.ky/event/apex-invest-americas-2026/
LOCATION:The Joseph\, a Luxury Collection Hotel\, 401 Korean Veterans Blvd\, Nashville\, TN\, TN 37203\, United States
CATEGORIES:Industry Event
ATTACH;FMTTYPE=image/png:https://caymanfinance.ky/wp-content/uploads/2025/12/e89d2a48-dde6-4b21-ad92-75c1bf120273-1.png
END:VEVENT
END:VCALENDAR